BEGIN:VCALENDAR
VERSION:2.0
PRODID:-//St Peters Ad Vincula - ECPv6.15.20//NONSGML v1.0//EN
CALSCALE:GREGORIAN
METHOD:PUBLISH
X-WR-CALNAME:St Peters Ad Vincula
X-ORIGINAL-URL:https://dittonchurch.org.uk
X-WR-CALDESC:Events for St Peters Ad Vincula
REFRESH-INTERVAL;VALUE=DURATION:PT1H
X-Robots-Tag:noindex
X-PUBLISHED-TTL:PT1H
BEGIN:VTIMEZONE
TZID:UTC
BEGIN:STANDARD
TZOFFSETFROM:+0000
TZOFFSETTO:+0000
TZNAME:UTC
DTSTART:20250101T000000
END:STANDARD
END:VTIMEZONE
BEGIN:VEVENT
DTSTART;TZID=UTC:20260509T100000
DTEND;TZID=UTC:20260509T150000
DTSTAMP:20260420T184748
CREATED:20260204T142725Z
LAST-MODIFIED:20260204T142725Z
UID:3872-1778320800-1778338800@dittonchurch.org.uk
SUMMARY:Ditton Church Away Day
DESCRIPTION:We are delighted that this year our speaker will be Tim Yearsley who grew up in Ditton and our Church. He now works for LICC (London Institute for Contemporary Christianity). More information about the day to follow but please save the date!
URL:https://dittonchurch.org.uk/event/ditton-church-away-day/
ATTACH;FMTTYPE=image/jpeg:https://dittonchurch.org.uk/wp-content/uploads/2024/02/St-B-Away-Day.jpg
END:VEVENT
BEGIN:VEVENT
DTSTART;TZID=UTC:20260516T190000
DTEND;TZID=UTC:20260516T210000
DTSTAMP:20260420T184748
CREATED:20260415T125851Z
LAST-MODIFIED:20260415T125851Z
UID:3920-1778958000-1778965200@dittonchurch.org.uk
SUMMARY:Ditton Film Club Movie Night - "Nicholas's Gift"
DESCRIPTION:Doors open 5.45pm for refreshments. £5 donation
URL:https://dittonchurch.org.uk/event/ditton-film-club-movie-night-nicholass-gift/
LOCATION:Church Centre\, Church Centre\, New Road\, Ditton\, Aylesford\, Kent\, ME20 6AE\, United Kingdom
ATTACH;FMTTYPE=image/jpeg:https://dittonchurch.org.uk/wp-content/uploads/2017/09/Image-940x600px_EVENTS_IMAGE_ladies_film_night.jpg
END:VEVENT
END:VCALENDAR