BEGIN:VCALENDAR
VERSION:2.0
PRODID:-//St Peters Ad Vincula - ECPv6.15.20//NONSGML v1.0//EN
CALSCALE:GREGORIAN
METHOD:PUBLISH
X-WR-CALNAME:St Peters Ad Vincula
X-ORIGINAL-URL:https://dittonchurch.org.uk
X-WR-CALDESC:Events for St Peters Ad Vincula
REFRESH-INTERVAL;VALUE=DURATION:PT1H
X-Robots-Tag:noindex
X-PUBLISHED-TTL:PT1H
BEGIN:VTIMEZONE
TZID:UTC
BEGIN:STANDARD
TZOFFSETFROM:+0000
TZOFFSETTO:+0000
TZNAME:UTC
DTSTART:20160101T000000
END:STANDARD
END:VTIMEZONE
BEGIN:VEVENT
DTSTART;TZID=UTC:20181216T090000
DTEND;TZID=UTC:20181224T170000
DTSTAMP:20260421T215543
CREATED:20181205T131325Z
LAST-MODIFIED:20181205T131726Z
UID:1647-1544950800-1545670800@dittonchurch.org.uk
SUMMARY:
DESCRIPTION:This year St peter’s Church will be holding the first ever Christmas Tree Festival. Local groups have been invited to decorate Christmas Trees that will be displayed over the Christmas period. \nPlease do come along to visit us\, admire the trees and stay for the services if you would like to. \nA warm welcome awaits! \nhttps://dittonchurch.org.uk/wp-content/uploads/2018/12/Christmas-tree-festival-brochure-updated-021218.pdf
URL:https://dittonchurch.org.uk/event/1647/
END:VEVENT
BEGIN:VEVENT
DTSTART;TZID=UTC:20180926T070000
DTEND;TZID=UTC:20180926T220000
DTSTAMP:20260421T215543
CREATED:20170911T143809Z
LAST-MODIFIED:20180909T140635Z
UID:879-1537945200-1537999200@dittonchurch.org.uk
SUMMARY:Ladies Film Night
DESCRIPTION:Ladies Film Night\nLadies Film Night Takes place on 26th September at 7.15 pm. Tickets for drinks and nibbles are £2.50 The film is Finding Your Feet. Please contact the Church Office to reserve a place.
URL:https://dittonchurch.org.uk/event/ladies-film-night/
LOCATION:Church Centre\, Church Centre\, New Road\, Ditton\, Aylesford\, Kent\, ME20 6AE\, United Kingdom
ATTACH;FMTTYPE=image/jpeg:https://dittonchurch.org.uk/wp-content/uploads/2017/09/Image-940x600px_EVENTS_IMAGE_ladies_film_night.jpg
ORGANIZER;CN="Jane Beldham":MAILTO:dittonchurch@btconnect.com
END:VEVENT
BEGIN:VEVENT
DTSTART;TZID=UTC:20180609T130000
DTEND;TZID=UTC:20180609T150000
DTSTAMP:20260421T215543
CREATED:20180509T095247Z
LAST-MODIFIED:20180509T095247Z
UID:1261-1528549200-1528556400@dittonchurch.org.uk
SUMMARY:JustOne
DESCRIPTION:An event held at the Priestfield Stadium\, Gillingham. The speaker is J John. Tickets are £5 and available from the JustOne website
URL:https://dittonchurch.org.uk/event/justone/
LOCATION:Priestfield Stadium
END:VEVENT
BEGIN:VEVENT
DTSTART;TZID=UTC:20170918T140000
DTEND;TZID=UTC:20170918T180000
DTSTAMP:20260421T215543
CREATED:20170911T135506Z
LAST-MODIFIED:20170913T173344Z
UID:870-1505743200-1505757600@dittonchurch.org.uk
SUMMARY:Church Book Club
DESCRIPTION:Church Book Club We are meeting in the Golding Room 2pm on September 18th to discuss Gilead by Marilynne Robinson. If you are coming please let Ross know.
URL:https://dittonchurch.org.uk/event/church-book-club/
LOCATION:Golding Room\, Church Centre\, New Road\, Ditton\, Aylesford\, Kent\, ME20 6AE\, United Kingdom
ATTACH;FMTTYPE=image/jpeg:https://dittonchurch.org.uk/wp-content/uploads/2017/09/Image-940x600px_LIBRARY2.jpg
ORGANIZER;CN="Rev. Ross Terranova":MAILTO:ross.terranova@hotmail.co.uk
END:VEVENT
END:VCALENDAR