BEGIN:VCALENDAR
VERSION:2.0
PRODID:-//St Peters Ad Vincula - ECPv6.15.20//NONSGML v1.0//EN
CALSCALE:GREGORIAN
METHOD:PUBLISH
X-WR-CALNAME:St Peters Ad Vincula
X-ORIGINAL-URL:https://dittonchurch.org.uk
X-WR-CALDESC:Events for St Peters Ad Vincula
REFRESH-INTERVAL;VALUE=DURATION:PT1H
X-Robots-Tag:noindex
X-PUBLISHED-TTL:PT1H
BEGIN:VTIMEZONE
TZID:UTC
BEGIN:STANDARD
TZOFFSETFROM:+0000
TZOFFSETTO:+0000
TZNAME:UTC
DTSTART:20240101T000000
END:STANDARD
END:VTIMEZONE
BEGIN:VEVENT
DTSTART;TZID=UTC:20251109T094500
DTEND;TZID=UTC:20251109T111500
DTSTAMP:20260421T101309
CREATED:20251020T125931Z
LAST-MODIFIED:20251020T125931Z
UID:3751-1762681500-1762686900@dittonchurch.org.uk
SUMMARY:Remembrance Sunday
DESCRIPTION:The Remembrance Sunday service will be held in Church at 09.45am\, followed by walking to the war memorial and the laying of wreaths.
URL:https://dittonchurch.org.uk/event/remembrance-sunday/
LOCATION:Kent
ATTACH;FMTTYPE=image/jpeg:https://dittonchurch.org.uk/wp-content/uploads/2025/10/Poppy-wreath-GPW-rotated.jpg
END:VEVENT
END:VCALENDAR